BEGIN:VCALENDAR
VERSION:2.0
PRODID:-//Ecole libre de Courrière - ECPv5.9.0//NONSGML v1.0//EN
CALSCALE:GREGORIAN
METHOD:PUBLISH
X-WR-CALNAME:Ecole libre de Courrière
X-ORIGINAL-URL:https://ecolelibredecourriere.be
X-WR-CALDESC:évènements pour Ecole libre de Courrière
BEGIN:VTIMEZONE
TZID:UTC
BEGIN:STANDARD
TZOFFSETFROM:+0000
TZOFFSETTO:+0000
TZNAME:UTC
DTSTART:20170101T000000
END:STANDARD
END:VTIMEZONE
BEGIN:VEVENT
DTSTART;VALUE=DATE:20171117
DTEND;VALUE=DATE:20171118
DTSTAMP:20260420T105824
CREATED:20171019T101448Z
LAST-MODIFIED:20171019T152859Z
UID:2855-1510876800-1510963199@ecolelibredecourriere.be
SUMMARY:2ème journée de conférence le 17 novembre 2017
DESCRIPTION:
URL:https://ecolelibredecourriere.be/index.php/event/2eme-journee-de-conference-le-17-novembre-2017/
END:VEVENT
END:VCALENDAR