BEGIN:VCALENDAR
VERSION:2.0
PRODID:-//Ecole libre de Courrière - ECPv5.9.0//NONSGML v1.0//EN
CALSCALE:GREGORIAN
METHOD:PUBLISH
X-WR-CALNAME:Ecole libre de Courrière
X-ORIGINAL-URL:https://ecolelibredecourriere.be
X-WR-CALDESC:évènements pour Ecole libre de Courrière
BEGIN:VTIMEZONE
TZID:UTC
BEGIN:STANDARD
TZOFFSETFROM:+0000
TZOFFSETTO:+0000
TZNAME:UTC
DTSTART:20180101T000000
END:STANDARD
END:VTIMEZONE
BEGIN:VEVENT
DTSTART;TZID=UTC:20180110T080000
DTEND;TZID=UTC:20180110T170000
DTSTAMP:20260419T225541
CREATED:20171214T122045Z
LAST-MODIFIED:20171214T122045Z
UID:2956-1515571200-1515603600@ecolelibredecourriere.be
SUMMARY:Animation Ados P6
DESCRIPTION:
URL:https://ecolelibredecourriere.be/index.php/event/animation-ados-p6/
END:VEVENT
END:VCALENDAR