BEGIN:VCALENDAR
VERSION:2.0
PRODID:-//Ecole libre de Courrière - ECPv5.9.0//NONSGML v1.0//EN
CALSCALE:GREGORIAN
METHOD:PUBLISH
X-WR-CALNAME:Ecole libre de Courrière
X-ORIGINAL-URL:https://ecolelibredecourriere.be
X-WR-CALDESC:évènements pour Ecole libre de Courrière
BEGIN:VTIMEZONE
TZID:UTC
BEGIN:STANDARD
TZOFFSETFROM:+0000
TZOFFSETTO:+0000
TZNAME:UTC
DTSTART:20180101T000000
END:STANDARD
END:VTIMEZONE
BEGIN:VEVENT
DTSTART;TZID=UTC:20180209T080000
DTEND;TZID=UTC:20180209T170000
DTSTAMP:20260419T212947
CREATED:20171214T122602Z
LAST-MODIFIED:20171214T122602Z
UID:2935-1518163200-1518195600@ecolelibredecourriere.be
SUMMARY:Carnaval
DESCRIPTION:Cette année\, grand carnaval à l’école!
URL:https://ecolelibredecourriere.be/index.php/event/carnaval/
END:VEVENT
END:VCALENDAR