BEGIN:VCALENDAR
VERSION:2.0
PRODID:-//Ecole libre de Courrière - ECPv5.9.0//NONSGML v1.0//EN
CALSCALE:GREGORIAN
METHOD:PUBLISH
X-WR-CALNAME:Ecole libre de Courrière
X-ORIGINAL-URL:https://ecolelibredecourriere.be
X-WR-CALDESC:évènements pour Ecole libre de Courrière
BEGIN:VTIMEZONE
TZID:UTC
BEGIN:STANDARD
TZOFFSETFROM:+0000
TZOFFSETTO:+0000
TZNAME:UTC
DTSTART:20180101T000000
END:STANDARD
END:VTIMEZONE
BEGIN:VEVENT
DTSTART;TZID=UTC:20180430T080000
DTEND;TZID=UTC:20180430T170000
DTSTAMP:20260419T134056
CREATED:20171214T122922Z
LAST-MODIFIED:20171214T122922Z
UID:2946-1525075200-1525107600@ecolelibredecourriere.be
SUMMARY:Conférence pédagogique
DESCRIPTION:
URL:https://ecolelibredecourriere.be/index.php/event/conference-pedagogique/
END:VEVENT
END:VCALENDAR