BEGIN:VCALENDAR
VERSION:2.0
PRODID:-//Ecole libre de Courrière - ECPv5.9.0//NONSGML v1.0//EN
CALSCALE:GREGORIAN
METHOD:PUBLISH
X-WR-CALNAME:Ecole libre de Courrière
X-ORIGINAL-URL:https://ecolelibredecourriere.be
X-WR-CALDESC:évènements pour Ecole libre de Courrière
BEGIN:VTIMEZONE
TZID:UTC
BEGIN:STANDARD
TZOFFSETFROM:+0000
TZOFFSETTO:+0000
TZNAME:UTC
DTSTART:20170101T000000
END:STANDARD
END:VTIMEZONE
BEGIN:VEVENT
DTSTART;VALUE=DATE:20171207
DTEND;VALUE=DATE:20171216
DTSTAMP:20260420T071635
CREATED:20171019T102030Z
LAST-MODIFIED:20171212T150042Z
UID:2861-1512604800-1513382399@ecolelibredecourriere.be
SUMMARY:Début du festival du livre
DESCRIPTION:  \nLe festival a commencé. \n  \nLes enfants découvrent une multitude de livres pendant les récréations.
URL:https://ecolelibredecourriere.be/index.php/event/debut-du-festival-du-livre/
END:VEVENT
END:VCALENDAR