BEGIN:VCALENDAR
VERSION:2.0
PRODID:-//Ecole libre de Courrière - ECPv5.9.0//NONSGML v1.0//EN
CALSCALE:GREGORIAN
METHOD:PUBLISH
X-WR-CALNAME:Ecole libre de Courrière
X-ORIGINAL-URL:https://ecolelibredecourriere.be
X-WR-CALDESC:évènements pour Ecole libre de Courrière
BEGIN:VTIMEZONE
TZID:UTC
BEGIN:STANDARD
TZOFFSETFROM:+0000
TZOFFSETTO:+0000
TZNAME:UTC
DTSTART:20170101T000000
END:STANDARD
END:VTIMEZONE
BEGIN:VEVENT
DTSTART;TZID=UTC:20171208T153000
DTEND;TZID=UTC:20171208T183000
DTSTAMP:20260420T041203
CREATED:20171008T153006Z
LAST-MODIFIED:20171019T150935Z
UID:2863-1512747000-1512757800@ecolelibredecourriere.be
SUMMARY:Distribution des sapins de Noël le 8 décembre 2017
DESCRIPTION:Les élèves de 5ème et 6ème primaires vendront des sapins de Noël au profit de leurs classes de neige. \nLes sapins seront à réserver par mail ou via les talons de commandes.
URL:https://ecolelibredecourriere.be/index.php/event/distribution-des-sapins-de-noel/
END:VEVENT
END:VCALENDAR