BEGIN:VCALENDAR
VERSION:2.0
PRODID:-//Ecole libre de Courrière - ECPv5.9.0//NONSGML v1.0//EN
CALSCALE:GREGORIAN
METHOD:PUBLISH
X-WR-CALNAME:Ecole libre de Courrière
X-ORIGINAL-URL:https://ecolelibredecourriere.be
X-WR-CALDESC:évènements pour Ecole libre de Courrière
BEGIN:VTIMEZONE
TZID:UTC
BEGIN:STANDARD
TZOFFSETFROM:+0000
TZOFFSETTO:+0000
TZNAME:UTC
DTSTART:20170101T000000
END:STANDARD
END:VTIMEZONE
BEGIN:VEVENT
DTSTART;VALUE=DATE:20171130
DTEND;VALUE=DATE:20171201
DTSTAMP:20260420T072144
CREATED:20171019T101738Z
LAST-MODIFIED:20171019T113410Z
UID:2859-1512000000-1512086399@ecolelibredecourriere.be
SUMMARY:Journée sportive ADEPS (primaire) le jeudi 30 novembre
DESCRIPTION:
URL:https://ecolelibredecourriere.be/index.php/event/journee-sportive-adeps-primaire/
END:VEVENT
END:VCALENDAR