BEGIN:VCALENDAR
VERSION:2.0
PRODID:-//Ecole libre de Courrière - ECPv5.9.0//NONSGML v1.0//EN
CALSCALE:GREGORIAN
METHOD:PUBLISH
X-WR-CALNAME:Ecole libre de Courrière
X-ORIGINAL-URL:https://ecolelibredecourriere.be
X-WR-CALDESC:évènements pour Ecole libre de Courrière
BEGIN:VTIMEZONE
TZID:UTC
BEGIN:STANDARD
TZOFFSETFROM:+0000
TZOFFSETTO:+0000
TZNAME:UTC
DTSTART:20170101T000000
END:STANDARD
END:VTIMEZONE
BEGIN:VEVENT
DTSTART;TZID=UTC:20171215T170000
DTEND;TZID=UTC:20171215T200000
DTSTAMP:20260420T023041
CREATED:20171019T102533Z
LAST-MODIFIED:20171208T152344Z
UID:2865-1513357200-1513368000@ecolelibredecourriere.be
SUMMARY:Marché de Noël vendredi + concert le vendredi 15 décembre2017
DESCRIPTION:
URL:https://ecolelibredecourriere.be/index.php/event/marche-de-noel-vendredi-concert-le-vendredi-15-decembre2017/
END:VEVENT
END:VCALENDAR