BEGIN:VCALENDAR
VERSION:2.0
PRODID:-//Ecole libre de Courrière - ECPv5.9.0//NONSGML v1.0//EN
CALSCALE:GREGORIAN
METHOD:PUBLISH
X-WR-CALNAME:Ecole libre de Courrière
X-ORIGINAL-URL:https://ecolelibredecourriere.be
X-WR-CALDESC:évènements pour Ecole libre de Courrière
BEGIN:VTIMEZONE
TZID:UTC
BEGIN:STANDARD
TZOFFSETFROM:+0000
TZOFFSETTO:+0000
TZNAME:UTC
DTSTART:20250101T000000
END:STANDARD
END:VTIMEZONE
BEGIN:VEVENT
DTSTART;TZID=UTC:20250825T081500
DTEND;TZID=UTC:20250825T081500
DTSTAMP:20260420T124420
CREATED:20250813T122147Z
LAST-MODIFIED:20250813T123308Z
UID:6151-1756109700-1756109700@ecolelibredecourriere.be
SUMMARY:Petit déjeuner de l'AP et rentrée des classes et début des repas chauds
DESCRIPTION:
URL:https://ecolelibredecourriere.be/index.php/event/petit-dejeuner-de-lap-et-rentree-des-classes/
END:VEVENT
END:VCALENDAR